BEGIN:VCALENDAR
VERSION:2.0
PRODID:-// - ECPv4.9.3//NONSGML v1.0//EN
CALSCALE:GREGORIAN
METHOD:PUBLISH
X-ORIGINAL-URL:https://neuromusica.es
X-WR-CALDESC:Eventos para 
BEGIN:VEVENT
DTSTART;TZID=UTC+2:20141121T203000
DTEND;TZID=UTC+2:20141121T220000
DTSTAMP:20260422T201718
CREATED:20141103T225937Z
LAST-MODIFIED:20141103T230233Z
UID:2743-1416601800-1416607200@neuromusica.es
SUMMARY:Concierto Almúsica en Elche
DESCRIPTION: \nTe deseamos que disfrutes y que experimentes la vibración en tu cuerpo\, además de estar en un estado de relajación profunda. \nMira la información en la web Almúsica\nTe agradezco que lo compartas con tus amistades. \nAsociación Amigoterapias       Tel:  610 457 471 \nConrado del Campo\, 111\nElche (Alicante) \nEmail:  belen_cox@yahoo.es – vivigarciarubio@yahoo.es\nPrecio: 10€ Hora: 20\,30h\nGracias a la Asociación Amigoterapias los asistentes disfrutarán de un 33% de descuento. El precio habitual del concierto es de 15€ y en este evento será la entrada por 10€ \n  \nIMPORTANTE traer manta\, esterilla o aunque sea solo la manta y almohada para estar cómodos tumbados en el suelo. \n
URL:https://neuromusica.es/evento/concierto-almusica-en-elche/
LOCATION:Asociación Amigoterápias\,  C/ Conrado del Campo\, 111\, Elche\, Alicante\, España
END:VEVENT
END:VCALENDAR