BEGIN:VCALENDAR
VERSION:2.0
PRODID:-// - ECPv4.9.3//NONSGML v1.0//EN
CALSCALE:GREGORIAN
METHOD:PUBLISH
X-ORIGINAL-URL:https://neuromusica.es
X-WR-CALDESC:Eventos para 
BEGIN:VEVENT
DTSTART;TZID=UTC+2:20141122T183000
DTEND;TZID=UTC+2:20141122T200000
DTSTAMP:20260422T184120
CREATED:20141103T224557Z
LAST-MODIFIED:20141103T231607Z
UID:2738-1416681000-1416686400@neuromusica.es
SUMMARY:Concierto Almúsica en Jávea
DESCRIPTION: \n  \nTe deseamos que disfrutes y que experimentes la vibración en tu cuerpo\, además de estar en un estado de relajación profunda. \nMira la información en la web Almúsica\nTe agradezco que lo compartas con tus amistades. \n  \nJávea Yoga Studio               Tel:  647 54 10 34 \nVirgen del Loreto\, 24\n Jávea\nEmail:  yoginimag@gmail.com \n  \nIMPORTANTE traer manta\, esterilla o aunque sea solo la manta y almohada para estar cómodos tumbados en el suelo. \n
URL:https://neuromusica.es/evento/concierto-almusica-en-javea/
LOCATION:Jávea Yoga Studio\, Virgen del Loreto\, 24\, Jávea\, Alicante\, España
END:VEVENT
END:VCALENDAR