BEGIN:VCALENDAR
VERSION:2.0
PRODID:-// - ECPv4.9.3//NONSGML v1.0//EN
CALSCALE:GREGORIAN
METHOD:PUBLISH
X-ORIGINAL-URL:https://neuromusica.es
X-WR-CALDESC:Eventos para 
BEGIN:VEVENT
DTSTART;TZID=UTC+2:20141114T203000
DTEND;TZID=UTC+2:20141114T203000
DTSTAMP:20260422T234732
CREATED:20141104T014202Z
LAST-MODIFIED:20141104T014346Z
UID:2761-1415997000-1415997000@neuromusica.es
SUMMARY:Concierto Almúsica en Centro Orenda
DESCRIPTION: \nTe deseamos que disfrutes y que experimentes la vibración en tu cuerpo\, además de estar en un estado de relajación profunda. \nMira la información en la web Almúsica\nTe agradezco que lo compartas con tus amistades. \nCentro Orenda                                          Tel: 965 78 06 90\nCarrer de Senija\, 5                                 Email: centroorenda@gmail.com\nDenia \n  \nIMPORTANTE traer manta\, esterilla o aunque sea solo la manta y almohada para estar cómodos tumbados en el suelo. \n
URL:https://neuromusica.es/evento/concierto-almusica-en-orenda/
LOCATION:Centro Orenda\, Carrer de Senija\, 5\, Dénia\, Alicante\, España
END:VEVENT
END:VCALENDAR