BEGIN:VCALENDAR
VERSION:2.0
PRODID:-// - ECPv4.9.3//NONSGML v1.0//EN
CALSCALE:GREGORIAN
METHOD:PUBLISH
X-ORIGINAL-URL:https://neuromusica.es
X-WR-CALDESC:Eventos para 
BEGIN:VEVENT
DTSTART;TZID=UTC+2:20151115T113000
DTEND;TZID=UTC+2:20151115T113000
DTSTAMP:20260421T073207
CREATED:20151109T125651Z
LAST-MODIFIED:20151109T125651Z
UID:3309-1447587000-1447587000@neuromusica.es
SUMMARY:Coruña Sesión de Neuromúsica en D´Lempicka
DESCRIPTION:
URL:https://neuromusica.es/evento/coruna-sesion-de-neuromusica-en-dlempicka/
LOCATION:Centro D´Lempicka
ORGANIZER;CN="Elena":MAILTO:elena@neuromusica.es
END:VEVENT
END:VCALENDAR