BEGIN:VCALENDAR
VERSION:2.0
PRODID:-// - ECPv4.9.3//NONSGML v1.0//EN
CALSCALE:GREGORIAN
METHOD:PUBLISH
X-ORIGINAL-URL:https://neuromusica.es
X-WR-CALDESC:Eventos para 
BEGIN:VEVENT
DTSTART;TZID=UTC+2:20161011T183000
DTEND;TZID=UTC+2:20161012T193000
DTSTAMP:20260421T014240
CREATED:20160905T092928Z
LAST-MODIFIED:20160905T093929Z
UID:3348-1476210600-1476300600@neuromusica.es
SUMMARY:Curso de Voz
DESCRIPTION:Curso de Voz \n \nHaz clic en la imagen para ver información más detallada \n
URL:https://neuromusica.es/evento/curso-de-voz/
LOCATION:Casa Loly\, Berdoias\, España
END:VEVENT
END:VCALENDAR