BEGIN:VCALENDAR
VERSION:2.0
PRODID:-// - ECPv4.9.3//NONSGML v1.0//EN
CALSCALE:GREGORIAN
METHOD:PUBLISH
X-ORIGINAL-URL:https://neuromusica.es
X-WR-CALDESC:Eventos para 
BEGIN:VEVENT
DTSTART;TZID=UTC+2:20141018T190000
DTEND;TZID=UTC+2:20141018T210000
DTSTAMP:20260424T101026
CREATED:20141018T020444Z
LAST-MODIFIED:20141018T135249Z
UID:2669-1413658800-1413666000@neuromusica.es
SUMMARY:Concierto de Almúsica en INTITUTO RAM
DESCRIPTION:Te deseamos que disfrutes y que experimentes la vibración en tu cuerpo\, además de estar en un estado de relajación profunda. \nMira la información en la web Almúsica\nTe agradezco que lo compartas con tus amistades. \nInstituto RAM                                              Tel: 692 673 907 y 656 88 50 10\nCasa La Colina\, Ptda. Font del Moli s/n          Email: info@institutoram.com\nBenimantell – Alicante\nTel. 966 81 46 46 \nIMPORTANTE traer manta\, esterilla o aunque sea solo la manta y almohada para estar cómodos tumbados en el suelo. \n
URL:https://neuromusica.es/evento/institutoram/
LOCATION:Instituto Ram\, Casa La Colina\, Ptda. Font del Moli s/n\, Benimantell\, Alicante\, 03516\, España
END:VEVENT
END:VCALENDAR