BEGIN:VCALENDAR
VERSION:2.0
PRODID:-// - ECPv4.9.3//NONSGML v1.0//EN
CALSCALE:GREGORIAN
METHOD:PUBLISH
X-ORIGINAL-URL:https://neuromusica.es
X-WR-CALDESC:Eventos para 
BEGIN:VEVENT
DTSTART;TZID=UTC+2:20141212T203000
DTEND;TZID=UTC+2:20141212T213000
DTSTAMP:20260422T142745
CREATED:20141124T174826Z
LAST-MODIFIED:20141124T180435Z
UID:2778-1418416200-1418419800@neuromusica.es
SUMMARY:ConCierto Sentido - Almúsica en Kerala
DESCRIPTION:ConCierto Sentido – Almúsica\n  \n \nTe deseamos que disfrutes y que experimentes la vibración en tu cuerpo\, además de estar en un estado de relajación profunda. \nMira la información en la web Almúsica\nTe agradezco que lo compartas con tus amistades. \nCentro Kerala\nC/ Barcelona\, 10-12   1º Dcha.\nCarballo – A Coruña \nEmail: sirfa2006@hotmail.com \nTel: 671 257 152 \nIMPORTANTE traer manta\, esterilla o aunque sea solo la manta y almohada para estar cómodos tumbados en el suelo. \n
URL:https://neuromusica.es/evento/kerala-diciembre/
LOCATION:Centro Kerala\, Rúa Barcelona\, 10\, Carballo\, Carballo (A Coruña)\, 15100\, España
END:VEVENT
END:VCALENDAR