BEGIN:VCALENDAR
VERSION:2.0
PRODID:-// - ECPv4.9.3//NONSGML v1.0//EN
CALSCALE:GREGORIAN
METHOD:PUBLISH
X-ORIGINAL-URL:https://neuromusica.es
X-WR-CALDESC:Eventos para 
BEGIN:VEVENT
DTSTART;TZID=UTC+2:20141220T200000
DTEND;TZID=UTC+2:20141220T213000
DTSTAMP:20260424T083549
CREATED:20141124T131335Z
LAST-MODIFIED:20141124T131939Z
UID:2775-1419105600-1419111000@neuromusica.es
SUMMARY:ConCierto Sentido - Almúsica en La Casa del Sol
DESCRIPTION:ConCierto Sentido – Almúsica\n \nTe deseamos que disfrutes y que experimentes la vibración en tu cuerpo\, además de estar en un estado de relajación profunda. \nMira la información en la web Almúsica\nTe agradezco que lo compartas con tus amistades. \nCentro de Yoga LA CASA DEL SOL\nC/ La Huerta\, 14 – 1º Izda\nSan Vicente – Alicante \n  \nTeléfono: 687 771 954  – Mónica \n  \nIMPORTANTE traer manta\, esterilla o aunque sea solo la manta y almohada para estar cómodos tumbados en el suelo. \n
URL:https://neuromusica.es/evento/lacasadelsol/
LOCATION:Centro de Yoga la Casa del Sol\, Calle la huerta\, 14     1ªIzq. \, San Vicente del Raspeig\, Alicante\, 03690 \, España
END:VEVENT
END:VCALENDAR