BEGIN:VCALENDAR
VERSION:2.0
PRODID:-// - ECPv4.9.3//NONSGML v1.0//EN
CALSCALE:GREGORIAN
METHOD:PUBLISH
X-ORIGINAL-URL:https://neuromusica.es
X-WR-CALDESC:Eventos para 
BEGIN:VEVENT
DTSTART;TZID=UTC+2:20160429T200000
DTEND;TZID=UTC+2:20160429T213000
DTSTAMP:20260421T040029
CREATED:20160419T184540Z
LAST-MODIFIED:20160419T194350Z
UID:3315-1461960000-1461965400@neuromusica.es
SUMMARY:MasYoga - Elche - Sesión de NeuroMúsica
DESCRIPTION:\n\n\n\nCon NEUROMÚSICA\, Daniel Puig va un paso más allá porque aúna la creación de los Biocampos\, la Vibración y la Salud\, a través de los instrumentos musicales\, de ciertos ejercicios de NeuroEstimulación Cerebral\, y de aplicar sobre cada uno de los asistentes los Vitrales… \nEs pionero de este tipo de sesiones vibracionales con los Vitrales de la Medicina Cuántica y el Sonido Binaural. En el año 1998 comenzó a desarrollar su actividad\, que se llamaba ALMÚSICA\, en gran parte de España\, Italia y Portugal. Después evolucionó y ahora es conocida como NEUROMÚSICA…. \nEs una sesión en grupo en la que a la vez se actúa en cada persona individualmente. \nSi quieres saber más de Daniel Puig puedes ver en su Biografía.\n\n\n\n
URL:https://neuromusica.es/evento/masyoga-elche-sesion-neuromusica/
LOCATION:Centro Mas Yoga\, José María Buck\, 38\, Elche\, Alicante\, España
ATTACH;FMTTYPE=image/png:http://res.cloudinary.com/neuromusica/image/upload/v1461089550/Mas_Yoga_Elche_con_NeuroM%C3%BAsica_Daniel_Puig_x5eu8k.png
ORGANIZER;CN="Consuelo%20Asencio":MAILTO:centromasyogaelche@gmail.com
END:VEVENT
END:VCALENDAR