BEGIN:VCALENDAR
VERSION:2.0
PRODID:-// - ECPv4.9.3//NONSGML v1.0//EN
CALSCALE:GREGORIAN
METHOD:PUBLISH
X-ORIGINAL-URL:https://neuromusica.es
X-WR-CALDESC:Eventos para 
BEGIN:VEVENT
DTSTART;TZID=UTC+2:20150522T200000
DTEND;TZID=UTC+2:20150522T200000
DTSTAMP:20260421T204318
CREATED:20150510T003434Z
LAST-MODIFIED:20150510T003434Z
UID:2971-1432324800-1432324800@neuromusica.es
SUMMARY:NEUROMÚSICA en Beniarbaig - Alicante - Centro Humana
DESCRIPTION:Centro HUMANA\n NEUROMÚSICA con Daniel Puig \nTe informamos del Taller de NEUROMÚSICA que vamos a realizar el próximo Viernes\, día 22 de Mayo a las 20h en nuestro Centro Humana en Beniarbeig – Alicante. \nSerá impartido por Daniel Puig\, músico y terapeuta de Medicina Alphísica.\nFormó parte del Coro y Orquesta Filarmónico de Jóvenes Europeos a finales de los 80. \nCursó estudios de musicoterapia y es pionero de este tipo de sesiones y talleres vibracionales con los vitrales de la Medicina Alphísica y el Sonido Binaural. En el año 1998 comenzó a desarrollar su actividad en gran parte de España\, Italia y Portugal.\nEl trabajo de Daniel Puig\, llamado NEUROMÚSICA\, va un paso más allá porque aúna la creación de los Biocampos\, la vibración y la salud\, a través de ciertos ejercicios de neuroestimulación y de aplicar sobre la persona los vitrales.\nLos Vitrales están cubiertos de Pan de Oro de 24k y de Plata Pura. Son elaborados en base a las leyes y principios de la Medicina Cuántica adaptada a la salud y el bienestar integral de la persona.\nEn la actualidad también participa en la Fundación Coro y Orquesta Helena Colina.\nImparte talleres de voz para el conocimiento del uso de la voz y de la práctica de los armónicos vocales.\nTiene consulta de Medicina Alphísica regularmente en diferentes ciudades del país.\nEs fundador de NEUROGES\, plataforma creada para ayudar a las personas a extraer\, sintetizar e integrar la Referencia Interna\, el Conocimiento de Sí y la Comprensión de la Generación de la Realidad al fomentar la Excelencia\, Recuperar la Soberanía Interna y Establecer la Calidad de Vida.\nSe realiza a través del Aprendizaje con Programas de Transformación Consciente ( A P T C ) y por medio de la aplicación del Conocimiento Integral\, la visión de las Neurociencias y la Física Cuántica.\nUn saludo\nMás información: \nhttps://neuromusica.es \n\nCentro HUMANA      \nPaseo Jaume I\, local 10                    \nBeniarbeig – Alicante\n \n  \nTel: 699 14 57 77\nEmail: alidelasalitas@gmail.com \n\nFecha:  22 de Mayo del 2015 \nHora:   20h\nImportante traer manta\, esterilla y cojín para estar cómodos. \nGracias por compartirlo con tus amistades por si es de su interés. \n
URL:https://neuromusica.es/evento/neuromusica-en-beniarbaig-alicante-centro-humana/
LOCATION:Centro Humana\, Paseo Jaume I\, local 10      \, Beniarbeig\, Alicante\, España
END:VEVENT
END:VCALENDAR