BEGIN:VCALENDAR
VERSION:2.0
PRODID:-// - ECPv4.9.3//NONSGML v1.0//EN
CALSCALE:GREGORIAN
METHOD:PUBLISH
X-ORIGINAL-URL:https://neuromusica.es
X-WR-CALDESC:Eventos para 
BEGIN:VEVENT
DTSTART;TZID=UTC+2:20150530T200000
DTEND;TZID=UTC+2:20150530T200000
DTSTAMP:20260421T151913
CREATED:20150510T005157Z
LAST-MODIFIED:20150516T134236Z
UID:2983-1433016000-1433016000@neuromusica.es
SUMMARY:NEUROMÚSICA en Donostia - Centro Iñaki Munita
DESCRIPTION:Centro IÑAKI MUNITA\n \nNEUROMÚSICA con Daniel Puig \nTe informamos del Taller de NEUROMÚSICA que vamos a realizar el próximo Sábado\, día 30 de Mayo a las 20h en nuestro Centro IÑAKI MUNITA en Donostia (Gipuzkoa). \nSerá impartido por Daniel Puig\, músico y terapeuta de Medicina Alphísica.\nFormó parte del Coro y Orquesta Filarmónico de Jóvenes Europeos a finales de los 80. \nCursó estudios de musicoterapia y es pionero de este tipo de sesiones y Talleres vibracionales con los vitrales de la Medicina Alphísica y el Sonido Binaural. En el año 1998 comenzó a desarrollar su actividad en gran parte de España\, Italia y Portugal.\nEl trabajo de Daniel Puig\, llamado NEUROMÚSICA\, va un paso más allá porque aúna la creación de los Biocampos\, la vibración y la salud\, a través de ciertos ejercicios de neuroestimulación y de aplicar sobre la persona los vitrales.\nLos Vitrales están cubiertos de Pan de Oro de 24k y de Plata Pura. Son elaborados en base a las leyes y principios de la Medicina Cuántica adaptada a la salud y el bienestar integral de la persona.\nEn la actualidad también participa en la Fundación Coro y Orquesta Helena Colina.\nImparte talleres de voz para el conocimiento del uso de la voz y de la práctica de los armónicos vocales.\nTiene consulta de Medicina Alphísica regularmente en diferentes ciudades del país.\nEs fundador de NEUROGES\, plataforma creada para ayudar a las personas a extraer\, sintetizar e integrar la Referencia Interna\, el Conocimiento de Sí y la Comprensión de la Generación de la Realidad al fomentar la Excelencia\, Recuperar la Soberanía Interna y Establecer la Calidad de Vida.\nSe realiza a través del Aprendizaje con Programas de Transformación Consciente ( A P T C ) y por medio de la aplicación del Conocimiento Integral\, la visión de las Neurociencias y la Física Cuántica.\nUn saludo\nMás información: \nhttps://neuromusica.es \n\nCentro IÑAKI MUNITA \nC/ Ramón María Lili\, 8 – 1º A \nDonostia (Gipuzkoa)\n\nTel: 943 27 56 33  –  647 00 51 67\nEmail: inakimunita@gmail.com\nFecha:  30 de Mayo del 2015 \nHora:   20h\nGracias por compartirlo con tus amistades por si es de su interés. \nUn saludo \n
URL:https://neuromusica.es/evento/neuromusica-en-donostia-centro-inaki-munita/
LOCATION:Centro Iñaki Munita\, C/ Ramón María Lili\, 8 - 1º A\, Donostia\, Donostia\, España
END:VEVENT
END:VCALENDAR