BEGIN:VCALENDAR
VERSION:2.0
PRODID:-// - ECPv4.9.3//NONSGML v1.0//EN
CALSCALE:GREGORIAN
METHOD:PUBLISH
X-ORIGINAL-URL:https://neuromusica.es
X-WR-CALDESC:Eventos para 
BEGIN:VEVENT
DTSTART;TZID=UTC+2:20150517T110000
DTEND;TZID=UTC+2:20150517T170000
DTSTAMP:20260421T223510
CREATED:20150510T002915Z
LAST-MODIFIED:20150510T002915Z
UID:2968-1431860400-1431882000@neuromusica.es
SUMMARY:NEUROMÚSICA en Vigo - Fios de Luz
DESCRIPTION:Centro FÍOS DE LUZ\nNEUROMÚSICA con Daniel Puig \nTe informamos del Taller de NEUROMÚSICA que vamos a realizar el próximo Domingo\, día 17 de Mayo a las 11h en nuestro Centro FÍOS DE LUZ en Vigo. \nSerá impartido por Daniel Puig\, músico y terapeuta de Medicina Alphísica.\nFormó parte del Coro y Orquesta Filarmónico de Jóvenes Europeos a finales de los 80. \nCursó estudios de musicoterapia y es pionero de este tipo de sesiones Y Talleres vibracionales con los vitrales de la Medicina Alphísica y el Sonido Binaural. En el año 1998 comenzó a desarrollar su actividad en gran parte de España\, Italia y Portugal.\nEl trabajo de Daniel Puig\, llamado NEUROMÚSICA\, va un paso más allá porque aúna la creación de los Biocampos\, la vibración y la salud\, a través de ciertos ejercicios de neuroestimulación y de aplicar sobre la persona los vitrales.\nLos Vitrales están cubiertos de Pan de Oro de 24k y de Plata Pura. Son elaborados en base a las leyes y principios de la Medicina Cuántica adaptada a la salud y el bienestar integral de la persona.\nEn la actualidad también forma parte de la Fundación Coro y Orquesta Helena Colina.\nImparte Talleres de Voz para el conocimiento del uso de la voz y de la práctica de los armónicos vocales.\nTiene Consulta de Medicina Alphísica regularmente en diferentes ciudades del país. \nEs Fundador de NEUROGES\, plataforma creada para ayudar a las personas a extraer\, sintetizar e integrar la Referencia Interna\, el Conocimiento de Sí y la Comprensión de la Generación de la Realidad al fomentar la Excelencia\, Recuperar la Soberanía Interna y Establecer la Calidad de Vida. \nSe realiza a través del Aprendizaje con Programas de Transformación Consciente ( A P T C ) y por medio de la aplicación del Conocimiento Integral\, la visión de las Neurociencias y la Física Cuántica. \nUn saludo\nMás información: \nhttps://neuromusica.es\n \n\nINSCRIPCIONES y RESERVAS \nCentro Fíos de Luz                \nGran Vía\, 33 – 1º Dcha. \nVigo \nIngresar 10€ de reserva en:  \nNº CTA ABANCA: ES79 2080 0528 69 3000023377 \nTel: Pedro – 699 54 75 21 / 661 56 63 17\nEmail: vigofiosdeluz@gmail.com \nFecha: Domingo\, 17 de Mayo del 2015\nHora:  11h\nImportante traer manta\, esterilla y cojín para estar cómodos         \n \nGracias por compartirlo con tus amistades por si es de su interés. \n
URL:https://neuromusica.es/evento/neuromusica-en-vigo-fios-de-luz/
LOCATION:Centro Fios de Luz\, Gran Vía\, 33 - 1º Dcha. \, Vigo\, Pontevedra\, España
END:VEVENT
END:VCALENDAR