BEGIN:VCALENDAR
VERSION:2.0
PRODID:-// - ECPv4.9.3//NONSGML v1.0//EN
CALSCALE:GREGORIAN
METHOD:PUBLISH
X-ORIGINAL-URL:https://neuromusica.es
X-WR-CALDESC:Eventos para 
BEGIN:VEVENT
DTSTART;TZID=UTC+2:20151115T190000
DTEND;TZID=UTC+2:20151115T190000
DTSTAMP:20260421T053023
CREATED:20151109T125922Z
LAST-MODIFIED:20151109T125922Z
UID:3311-1447614000-1447614000@neuromusica.es
SUMMARY:Santiago de Compostela Neuromúsica en EIRA Ecocentro
DESCRIPTION:
URL:https://neuromusica.es/evento/santiago-de-compostela-neuromusica-en-eira-ecocentro/
LOCATION:EIRA Ecocentro\, Rúa Nova\, 5\, Santiago de Compostela\, España
ORGANIZER;CN="Elena":MAILTO:elena@neuromusica.es
END:VEVENT
END:VCALENDAR