BEGIN:VCALENDAR
VERSION:2.0
PRODID:-// - ECPv4.9.3//NONSGML v1.0//EN
CALSCALE:GREGORIAN
METHOD:PUBLISH
X-ORIGINAL-URL:https://neuromusica.es
X-WR-CALDESC:Eventos para 
BEGIN:VEVENT
DTSTART;TZID=UTC+2:20171117T200000
DTEND;TZID=UTC+2:20171117T220000
DTSTAMP:20260420T221600
CREATED:20171115T235836Z
LAST-MODIFIED:20171116T145313Z
UID:3377-1510948800-1510956000@neuromusica.es
SUMMARY:Sesión de Neuromúsica - Valladolid
DESCRIPTION:\n\n\nSesión de NEUROMÚSICA\nImpartida por Daniel Puig\nTe informamos de la sesión de NEUROMÚSICA que vamos a realizar el próximo Viernes\, día 17 de Noviembre a las 20h en Valladolid en el Centro La Sonrisa del Delfín.Será impartido por Daniel Puig\, músico y terapeuta en VIVING Salud de Medicina Alphísica\, Homeopatía y Nutriciçon Celular.\nFormó parte del Coro y Orquesta Filarmónico de Jóvenes Europeos a finales de los 80. También cursó estudios de musicoterapia. \nEs pionero de este tipo de sesiones vibracionales con los Vitrales de la Medicina Alphísica y el Sonido Binaural. En el año 1998 comenzó a desarrollar su actividad\, que se llamaba ALMÚSICA\, en gran parte de España\, Italia y Portugal. Después evolucionó y ahora es conocida como NEUROMÚSICA. \nCon NEUROMÚSICA\, Daniel Puig va un paso más allá porque aúna la creación de los Biocampos\, la Vibración y la Salud\, a través los instrumentos musicales\, de ciertos ejercicios de NeuroEstimulación Cerebral\, y de aplicar sobre cada uno de los asistentes los Vitrales.\nEs una sesión en grupo en la que a la vez se actúa en cada persona individualmente. \nSi quieres saber más de Daniel Puig puedes ver en su Biografía. \nMás información: \nwww.neuromusica.co \nLa Sonrisa del Delfín               \nC/ López Gómez 30\, entreplanta izquierda \nVALLADOLID \nFecha:  Viernes\, 17 de Noviembre 2017\nHora: 20h \nTel: 983291420 (Yolanda)\n \nEmail: azuyoly@yahoo.es \nPrecio:   15€ \n  \nImprescindible Inscribirse \nGracias por compartirlo con tus amistades por si es de su interés.\n\n\n\n\n
URL:https://neuromusica.es/evento/sesion-neuromusica-valladolid/
LOCATION:La Sonrisa del Delfín\, c/ López Gómez\, 30\, Valladolid\, Valladolid\, 47002\, España
END:VEVENT
END:VCALENDAR