BEGIN:VCALENDAR
VERSION:2.0
PRODID:-// - ECPv4.9.3//NONSGML v1.0//EN
CALSCALE:GREGORIAN
METHOD:PUBLISH
X-ORIGINAL-URL:https://neuromusica.es
X-WR-CALDESC:Eventos para 
BEGIN:VEVENT
DTSTART;TZID=UTC+2:20141109T183000
DTEND;TZID=UTC+2:20141109T200000
DTSTAMP:20260423T024537
CREATED:20141021T012231Z
LAST-MODIFIED:20141021T012231Z
UID:2721-1415557800-1415563200@neuromusica.es
SUMMARY:Concierto de Almúsica en Espacio Suriya
DESCRIPTION:Te deseamos que disfrutes y que experimentes la vibración en tu cuerpo\, además de estar en un estado de relajación profunda. \nMira la información en la web Almúsica\nTe agradezco que lo compartas con tus amistades. \n  \nEspacio Suriya               Tel:  698 165 600  y   627 860 363   \nTeresa Herrera\, 1  1º Dcha.\n La Coruña                                      Email: comunicacion.suriya@gmail.com  \n  \nIMPORTANTE traer manta\, esterilla o aunque sea solo la manta y almohada para estar cómodos tumbados en el suelo. \n
URL:https://neuromusica.es/evento/suriya/
LOCATION:Esapacio Suriya\, Teresa Herrera\, 1  1º Dcha. \, A Coruña\, A Coruña\, España
END:VEVENT
END:VCALENDAR