BEGIN:VCALENDAR
VERSION:2.0
PRODID:-// - ECPv4.9.3//NONSGML v1.0//EN
CALSCALE:GREGORIAN
METHOD:PUBLISH
X-ORIGINAL-URL:https://neuromusica.es
X-WR-CALDESC:Eventos para 
BEGIN:VEVENT
DTSTART;TZID=UTC+2:20150211T200000
DTEND;TZID=UTC+2:20150211T210000
DTSTAMP:20260422T035506
CREATED:20150205T012541Z
LAST-MODIFIED:20150205T013707Z
UID:2809-1423684800-1423688400@neuromusica.es
SUMMARY:Barcelona - ConCierto Sentido - Almúsica en la Tricotilla
DESCRIPTION:ConCierto Sentido – Almúsica\nTe deseamos que disfrutes y que experimentes la vibración en tu cuerpo\, además de estar en un estado de relajación profunda. \nMira la información en la web Almúsica\nTe agradezco que lo compartas con tus amistades. \nLa Asociación  la Tricotilla \nC/ Almogávares\, nº 116\, 1º\nBarcelona.\nTelf.: 93.362.37.00 / 672.05.77.04. \nMetro L1-Marina\, o L4-Bogatell. \nEmail: cienciayespiritu@gmail.com \n  \nIMPORTANTE traer manta\, esterilla o aunque sea solo la manta y almohada para estar cómodos tumbados en el suelo. \n
URL:https://neuromusica.es/evento/tricotilla/
LOCATION:Asociación La Tricotilla\, calle Almogávares\, 116\, Barcelona\, Barcelona\, España
END:VEVENT
END:VCALENDAR